{
 "currentVersion": 11.3,
 "cimVersion": "3.3.0",
 "serviceDescription": "Spring 2018 Eagleview (Pictometry) Imagery. originally 4\"/pixel. Cached at 1:300, 1:600, 1:1,200, etc. Photo dates 4/21/2018 to 4/23/1018. For source images and metadata, go to https://explorer.pictometry.com/index.php.\nContact the IT Help Desk if you do not have a login.",
 "mapName": "Layers",
 "description": "Spring 2018 Eagleview (Pictometry) Imagery. originally 4\"/pixel. Cached at 1:300, 1:600, 1:1,200, etc. Photo dates 4/21/2018 to 4/23/1018. For source images and metadata, go to https://explorer.pictometry.com/index.php.\nContact the IT Help Desk if you do not have a login.",
 "copyrightText": "",
 "supportsDynamicLayers": true,
 "layers": [
  {
   "id": 0,
   "name": "Tiff",
   "parentLayerId": -1,
   "defaultVisibility": true,
   "subLayerIds": [
    1,
    2,
    3
   ],
   "minScale": 0,
   "maxScale": 0,
   "type": "Group Layer",
   "supportsDynamicLegends": false
  },
  {
   "id": 1,
   "name": "1",
   "parentLayerId": 0,
   "defaultVisibility": true,
   "subLayerIds": null,
   "minScale": 0,
   "maxScale": 0,
   "type": "Raster Layer",
   "supportsDynamicLegends": true
  },
  {
   "id": 2,
   "name": "2",
   "parentLayerId": 0,
   "defaultVisibility": true,
   "subLayerIds": null,
   "minScale": 0,
   "maxScale": 0,
   "type": "Raster Layer",
   "supportsDynamicLegends": true
  },
  {
   "id": 3,
   "name": "3",
   "parentLayerId": 0,
   "defaultVisibility": true,
   "subLayerIds": null,
   "minScale": 0,
   "maxScale": 0,
   "type": "Raster Layer",
   "supportsDynamicLegends": true
  }
 ],
 "tables": [],
 "spatialReference": {
  "wkid": 102717,
  "latestWkid": 2262,
  "xyTolerance": 0.003280833333333333,
  "zTolerance": 0.001,
  "mTolerance": 0.001,
  "falseX": -17299100,
  "falseY": -47344700,
  "xyUnits": 1.3725005035703713E8,
  "falseZ": -100000,
  "zUnits": 10000,
  "falseM": -100000,
  "mUnits": 10000
 },
 "singleFusedMapCache": true,
 "tileInfo": {
  "rows": 256,
  "cols": 256,
  "dpi": 96,
  "format": "PNG32",
  "compressionQuality": 0,
  "origin": {
   "x": -17299100,
   "y": 18281500
  },
  "spatialReference": {
   "wkid": 102717,
   "latestWkid": 2262,
   "xyTolerance": 0.003280833333333333,
   "zTolerance": 0.001,
   "mTolerance": 0.001,
   "falseX": -17299100,
   "falseY": -47344700,
   "xyUnits": 1.3725005035703713E8,
   "falseZ": -100000,
   "zUnits": 10000,
   "falseM": -100000,
   "mUnits": 10000
  },
  "lods": [
   {
    "level": 0,
    "resolution": 4266.666666666666,
    "scale": 4915200
   },
   {
    "level": 1,
    "resolution": 2133.333333333333,
    "scale": 2457600
   },
   {
    "level": 2,
    "resolution": 1066.6666666666665,
    "scale": 1228800
   },
   {
    "level": 3,
    "resolution": 533.3333333333333,
    "scale": 614400
   },
   {
    "level": 4,
    "resolution": 266.66666666666663,
    "scale": 307200
   },
   {
    "level": 5,
    "resolution": 133.33333333333331,
    "scale": 153600
   },
   {
    "level": 6,
    "resolution": 66.66666666666666,
    "scale": 76800
   },
   {
    "level": 7,
    "resolution": 33.33333333333333,
    "scale": 38400
   },
   {
    "level": 8,
    "resolution": 16.666666666666664,
    "scale": 19200
   },
   {
    "level": 9,
    "resolution": 8.333333333333332,
    "scale": 9600
   },
   {
    "level": 10,
    "resolution": 4.166666666666666,
    "scale": 4800
   },
   {
    "level": 11,
    "resolution": 2.083333333333333,
    "scale": 2400
   },
   {
    "level": 12,
    "resolution": 1.0416666666666665,
    "scale": 1200
   },
   {
    "level": 13,
    "resolution": 0.5208333333333333,
    "scale": 600
   },
   {
    "level": 14,
    "resolution": 0.26041666666666663,
    "scale": 300
   }
  ]
 },
 "storageInfo": {
  "storageFormat": "esriMapCacheStorageModeCompactV2",
  "packetSize": 128
 },
 "initialExtent": {
  "xmin": 1342333.4713814033,
  "ymin": 1107486.9304063336,
  "xmax": 1447204.6835026152,
  "ymax": 1235272.9152548185,
  "spatialReference": {
   "wkid": 102717,
   "latestWkid": 2262,
   "xyTolerance": 0.003280833333333333,
   "zTolerance": 0.001,
   "mTolerance": 0.001,
   "falseX": -17299100,
   "falseY": -47344700,
   "xyUnits": 1.3725005035703713E8,
   "falseZ": -100000,
   "zUnits": 10000,
   "falseM": -100000,
   "mUnits": 10000
  }
 },
 "fullExtent": {
  "xmin": 1355629.9534344412,
  "ymin": 1103594.5275342087,
  "xmax": 1447203.9717264778,
  "ymax": 1219948.5946525857,
  "spatialReference": {
   "wkid": 102717,
   "latestWkid": 2262,
   "xyTolerance": 0.003280833333333333,
   "zTolerance": 0.001,
   "mTolerance": 0.001,
   "falseX": -17299100,
   "falseY": -47344700,
   "xyUnits": 1.3725005035703713E8,
   "falseZ": -100000,
   "zUnits": 10000,
   "falseM": -100000,
   "mUnits": 10000
  }
 },
 "datesInUnknownTimezone": false,
 "minScale": 2457600,
 "maxScale": 300,
 "units": "esriFeet",
 "supportedImageFormatTypes": "PNG32,PNG24,PNG,JPG,DIB,TIFF,EMF,PS,PDF,GIF,SVG,SVGZ,BMP",
 "documentInfo": {
  "Title": "Eagleview 2018",
  "Author": "",
  "Comments": "Spring 2018 Eagleview (Pictometry) Imagery. originally 4\"/pixel. Cached at 1:300, 1:600, 1:1,200, etc. Photo dates 4/21/2018 to 4/23/1018. For source images and metadata, go to https://explorer.pictometry.com/index.php.\nContact the IT Help Desk if you do not have a login.",
  "Subject": "2018 Eagleview (Pictometry) Imagery",
  "Category": "",
  "Version": "2.9.0",
  "AntialiasingMode": "Fast",
  "TextAntialiasingMode": "Force",
  "Keywords": ""
 },
 "supportsQueryDomains": true,
 "capabilities": "Query,Map,Data",
 "supportedQueryFormats": "JSON, geoJSON, PBF",
 "exportTilesAllowed": false,
 "referenceScale": 0.0,
 "supportsDatumTransformation": true,
 "archivingInfo": {
  "supportsHistoricMoment": false
 },
 "supportsClipping": true,
 "supportsSpatialFilter": true,
 "supportsTimeRelation": true,
 "supportsQueryDataElements": true,
 "mapUnits": {
  "uwkid": 9003
 },
 "maxRecordCount": 100000,
 "maxImageHeight": 4096,
 "maxImageWidth": 4096,
 "supportedExtensions": ""
}
